BEGIN:VCALENDAR
VERSION:2.0
PRODID:-//Library Market//iCal Export//EN
BEGIN:VEVENT
SUMMARY:Annual Summer Reading Kick-Off
UID:9203
DTSTAMP:20260423T112300Z
DTSTART:20260610T150000Z
DTEND:20260610T170000Z
LOCATION:221 E. Main Street, Lake City, SC 29560, United States
ROOM: LC Community Center
DESCRIPTION:Schools has ended and summer has finally arrived. Come and joi
 n in the fun at the Lake City Public Library as we kick-off our Annual Lib
 rary Summer Reading Program which is titled Unearth a Story. Stop by to re
 gister and pick up a reading log to record all the minutes you read books 
 during the summer and playful goodies. There will be fun activities and lo
 st of tasty refreshments. Children of all ages are welcome! 
URL:https://www.florencelibrary.org/event/annual-summer-reading-kick-9203
END:VEVENT
END:VCALENDAR
