BEGIN:VCALENDAR
VERSION:2.0
PRODID:-//Library Market//iCal Export//EN
BEGIN:VEVENT
SUMMARY:Community Job Fair
UID:9187
DTSTAMP:20260422T205000Z
DTSTART:20260707T130000Z
DTEND:20260707T180000Z
LOCATION:221 E. Main Street, Lake City, SC 29560, United States
ROOM: LC Community Center
DESCRIPTION:During this event, job seekers will have the opportunity to ne
 twork with various employers seeking individuals to fill their open positi
 ons. Employers will be recruiting for positions in food distribution, manu
 facturing, customer service and more. This event is free and open to the p
 ublic.
URL:https://www.florencelibrary.org/event/community-job-fair-9187
END:VEVENT
END:VCALENDAR
