BEGIN:VCALENDAR
VERSION:2.0
PRODID:-//Library Market//iCal Export//EN
BEGIN:VEVENT
SUMMARY:3rd Annual Pound Cake Bake Off Contest
UID:9176
DTSTAMP:20260422T192100Z
DTSTART:20260630T150000Z
DTEND:20260630T170000Z
LOCATION:221 E. Main Street, Lake City, SC 29560, United States
ROOM: LC Community Center
DESCRIPTION:This occasion is the perfect opportunity for individuals to sh
 ow off their home baking skills by baking a classic pound cake of their ch
 oice. Each participant will be required to display their recipe beside the
 ir cake. Judging will be based on flavor, appearance, and texture. Prizes 
 and ribbons will be awarded to first-, second-, and third-place winners in
  each category. The first-place winner will receive a $50 gift card. This 
 contest is open to all adults aged 18+, but registration is required. To r
 egister, individuals can call the library.
URL:https://www.florencelibrary.org/event/3rd-annual-pound-cake-bake-conte
 st-9176
END:VEVENT
END:VCALENDAR
