BEGIN:VCALENDAR
VERSION:2.0
PRODID:-//Library Market//iCal Export//EN
BEGIN:VEVENT
SUMMARY:Beginner Sewing Workshop for Adults
UID:9173
DTSTAMP:20260422T174400Z
DTSTART:20260623T150000Z
DTEND:20260623T170000Z
LOCATION:221 E. Main Street, Lake City, SC 29560, United States
ROOM: LC Community Center
DESCRIPTION:This Sewing Workshop is for beginners or for those who want to
  renew the lost sewing skills they once had and want to rekindle them. Ind
 ividuals who have a sewing machine and wish to bring it may do so. This ev
 ent is free for the public to attend, but registration is needed. To regis
 ter, individuals can call the library.
URL:https://www.florencelibrary.org/event/old-school-sewing-workshop-adult
 s-9173
END:VEVENT
END:VCALENDAR
