BEGIN:VCALENDAR
VERSION:2.0
PRODID:-//Library Market//iCal Export//EN
BEGIN:VEVENT
SUMMARY:Senior Brunch &amp; Bingo Event
UID:9150
DTSTAMP:20260423T124200Z
DTSTART:20260616T150000Z
DTEND:20260616T170000Z
LOCATION:221 E. Main Street, Lake City, SC 29560, United States
ROOM: LC Community Center
DESCRIPTION: During this fun recreational gathering, seniors will enjoy t
 he activity of playing the classic game of bingo while indulging in a deli
 cious brunch that consists of tasty and scrumptious food. It&#039;s going 
 to be an event filled with fun and laughter. This program is free for the 
 public to attend, but registration is required, and seating will be limite
 d. To register or for questions, call the library at 843-394-8071.   
URL:https://www.florencelibrary.org/event/senior-brunch-bingo-event-9150
END:VEVENT
END:VCALENDAR
