BEGIN:VCALENDAR
VERSION:2.0
PRODID:-//Library Market//iCal Export//EN
BEGIN:VEVENT
SUMMARY:DIY Gardening Workshop for Adults
UID:9147
DTSTAMP:20260423T112300Z
DTSTART:20260609T150000Z
DTEND:20260609T170000Z
LOCATION:221 E. Main Street, Lake City, SC 29560, United States
ROOM: LC Community Center
DESCRIPTION:During this DIY workshop participants will be taught basic gar
 dening skills that they can use to incorporate a lively, florist-worthy ve
 getable garden in their very own backyard by planting in Raised Beds. Hand
 s-on activity will be involved during this event. This program is free and
  open to the public. Registration isn’t required. For more information, 
 please contact the library at 843-394-8071
URL:https://www.florencelibrary.org/event/plant-and-sip-event-adults-9147
END:VEVENT
END:VCALENDAR
