BEGIN:VCALENDAR
VERSION:2.0
PRODID:-//Library Market//iCal Export//EN
BEGIN:VEVENT
SUMMARY:Summer Reading: Edible Geology - Eat Dirt!
UID:8598
DTSTAMP:20260423T192800Z
DTSTART:20260709T190000Z
DTEND:20260709T200000Z
LOCATION:100 E. Main Street, Pamplico, SC 29583, United States
ROOM: PA Poppie H. Munn Meeting Room
DESCRIPTION:Summer reading program for 5k-5th graders. Join us for Edible 
 Geology and make themed snacks.
URL:https://www.florencelibrary.org/event/summer-reading-edible-geology-ea
 t-dirt-8598
END:VEVENT
END:VCALENDAR
