BEGIN:VCALENDAR
VERSION:2.0
PRODID:-//Library Market//iCal Export//EN
BEGIN:VEVENT
SUMMARY:Summer Reading: Dinosaur Dig/Excavation
UID:8597
DTSTAMP:20260423T192800Z
DTSTART:20260625T190000Z
DTEND:20260625T200000Z
LOCATION:100 E. Main Street, Pamplico, SC 29583, United States
ROOM: PA Poppie H. Munn Meeting Room
DESCRIPTION:Summer reading program for 5K-5th grades. Join us for a Dinosa
 ur Dig/Excavation. 
URL:https://www.florencelibrary.org/event/summer-reading-dinosaur-digexcav
 ation-8597
END:VEVENT
END:VCALENDAR
