BEGIN:VCALENDAR
VERSION:2.0
PRODID:-//Library Market//iCal Export//EN
BEGIN:VEVENT
SUMMARY:Summer Reading: Dino Games Day!
UID:8596
DTSTAMP:20260423T192800Z
DTSTART:20260618T190000Z
DTEND:20260618T200000Z
LOCATION:100 E. Main Street, Pamplico, SC 29583, United States
ROOM: PA Poppie H. Munn Meeting Room
DESCRIPTION:Summer reading program for 5K-5th grades. Join us for Dino Gam
 es Day and have fun with dinosaur themed games.
URL:https://www.florencelibrary.org/event/summer-reading-dino-games-day-85
 96
END:VEVENT
END:VCALENDAR
