BEGIN:VCALENDAR
VERSION:2.0
PRODID:-//Library Market//iCal Export//EN
BEGIN:VEVENT
SUMMARY:Summer Crafternoon
UID:8595
DTSTAMP:20260423T192800Z
DTSTART:20260707T200000Z
DTEND:20260707T210000Z
LOCATION:100 E. Main Street, Pamplico, SC 29583, United States
ROOM: PA Poppie H. Munn Meeting Room
DESCRIPTION:Weekly Crafternoon program for 5k-5th graders. For July 7, we&
 #039;ll be making Paper Plate Dinosaurs.
URL:https://www.florencelibrary.org/event/summer-crafternoon-8595
END:VEVENT
END:VCALENDAR
