BEGIN:VCALENDAR
VERSION:2.0
PRODID:-//Library Market//iCal Export//EN
BEGIN:VEVENT
SUMMARY:Summer Crafternoon
UID:8590
DTSTAMP:20260423T192800Z
DTSTART:20260630T200000Z
DTEND:20260630T210000Z
LOCATION:100 E. Main Street, Pamplico, SC 29583, United States
ROOM: PA Poppie H. Munn Meeting Room
DESCRIPTION:Weekly Crafternoon program for 5k-5th graders. For June 30, we
 &#039;ll be making Crayon Resist Dinosaurs.
URL:https://www.florencelibrary.org/event/summer-crafternoon-8590
END:VEVENT
END:VCALENDAR
