BEGIN:VCALENDAR
VERSION:2.0
PRODID:-//Library Market//iCal Export//EN
BEGIN:VEVENT
SUMMARY:Summer Crafternoon
UID:8588
DTSTAMP:20260423T192800Z
DTSTART:20260616T200000Z
DTEND:20260616T210000Z
LOCATION:100 E. Main Street, Pamplico, SC 29583, United States
ROOM: PA Poppie H. Munn Meeting Room
DESCRIPTION:Weekly Crafternoon program for 5k-5th graders. For June 16, we
 &#039;ll be making Dino Suncatchers.
URL:https://www.florencelibrary.org/event/summer-crafternoon-8588
END:VEVENT
END:VCALENDAR
