BEGIN:VCALENDAR
VERSION:2.0
PRODID:-//Library Market//iCal Export//EN
BEGIN:VEVENT
SUMMARY:Red Cross Blood Drive at JPL
UID:8532
DTSTAMP:20260422T124800Z
DTSTART:20260318T150000Z
DTEND:20260318T203000Z
LOCATION:242 S. Georgetown Hwy., Johnsonville, SC 29555, United States
ROOM: JV Meeting Room
DESCRIPTION:Community Red Cross Blood Drive.
URL:https://www.florencelibrary.org/event/red-cross-blood-drive-jpl-8532
END:VEVENT
END:VCALENDAR
