BEGIN:VCALENDAR
VERSION:2.0
PRODID:-//Library Market//iCal Export//EN
BEGIN:VEVENT
SUMMARY:Storytime
UID:8299
DTSTAMP:20260423T192800Z
DTSTART:20260617T190000Z
DTEND:20260617T200000Z
LOCATION:100 E. Main Street, Pamplico, SC 29583, United States
ROOM: PA Poppie H. Munn Meeting Room
DESCRIPTION:Join us this summer for our weekly storytimes June 17 - July 8
 . 
URL:https://www.florencelibrary.org/event/storytime-8299
END:VEVENT
END:VCALENDAR
