BEGIN:VCALENDAR
VERSION:2.0
PRODID:-//Library Market//iCal Export//EN
BEGIN:VEVENT
SUMMARY:Movie Monday
UID:8295
DTSTAMP:20260423T192800Z
DTSTART:20260622T190000Z
DTEND:20260622T210000Z
LOCATION:100 E. Main Street, Pamplico, SC 29583, United States
ROOM: PA Poppie H. Munn Meeting Room
DESCRIPTION:Join us for dinosaur themed movies this summer for Movie Monda
 ys! All rated PG. 
URL:https://www.florencelibrary.org/event/movie-monday-8295
END:VEVENT
END:VCALENDAR
