BEGIN:VCALENDAR
VERSION:2.0
PRODID:-//Library Market//iCal Export//EN
BEGIN:VEVENT
SUMMARY:T-Rex Tea Party! Summer Reading Kickoff
UID:8288
DTSTAMP:20260423T192800Z
DTSTART:20260612T140000Z
DTEND:20260612T160000Z
LOCATION:100 E. Main Street, Pamplico, SC 29583, United States
ROOM: PA Poppie H. Munn Meeting Room
DESCRIPTION:Unearth a Story at Pamplico Public Library this summer! Kickof
 f our summer reading program by joining us for a T-Rex Tea Party!
URL:https://www.florencelibrary.org/event/t-rex-tea-party-summer-reading-k
 ickoff-8288
END:VEVENT
END:VCALENDAR
